BEGIN:VCALENDAR
VERSION:2.0
PRODID:-//Happy Confident Kids - ECPv6.5.1.5//NONSGML v1.0//EN
CALSCALE:GREGORIAN
METHOD:PUBLISH
X-ORIGINAL-URL:https://happyconfidentkids.com
X-WR-CALDESC:Events for Happy Confident Kids
REFRESH-INTERVAL;VALUE=DURATION:PT1H
X-Robots-Tag:noindex
X-PUBLISHED-TTL:PT1H
BEGIN:VTIMEZONE
TZID:Europe/London
BEGIN:DAYLIGHT
TZOFFSETFROM:+0000
TZOFFSETTO:+0100
TZNAME:BST
DTSTART:20240331T010000
END:DAYLIGHT
BEGIN:STANDARD
TZOFFSETFROM:+0100
TZOFFSETTO:+0000
TZNAME:GMT
DTSTART:20241027T010000
END:STANDARD
END:VTIMEZONE
BEGIN:VEVENT
DTSTART;TZID=Europe/London:20241024T110000
DTEND;TZID=Europe/London:20241024T113000
DTSTAMP:20260423T190647
CREATED:20241018T135350Z
LAST-MODIFIED:20241018T135350Z
UID:2740-1729767600-1729769400@happyconfidentkids.com
SUMMARY:In the Wild Leader - Taster Session
DESCRIPTION:Find out more about being an In the Wild Leader
URL:https://happyconfidentkids.com/event/in-the-wild-leader-taster-session/
CATEGORIES:In the Wild
ORGANIZER;CN="Happy Confident Kids":MAILTO:hello@happyconfidentkids.com
END:VEVENT
END:VCALENDAR