BEGIN:VCALENDAR
VERSION:2.0
PRODID:-//Happy Confident Kids - ECPv6.5.1.5//NONSGML v1.0//EN
CALSCALE:GREGORIAN
METHOD:PUBLISH
X-WR-CALNAME:Happy Confident Kids
X-ORIGINAL-URL:https://happyconfidentkids.com
X-WR-CALDESC:Events for Happy Confident Kids
REFRESH-INTERVAL;VALUE=DURATION:PT1H
X-Robots-Tag:noindex
X-PUBLISHED-TTL:PT1H
BEGIN:VTIMEZONE
TZID:Europe/London
BEGIN:DAYLIGHT
TZOFFSETFROM:+0000
TZOFFSETTO:+0100
TZNAME:BST
DTSTART:20240331T010000
END:DAYLIGHT
BEGIN:STANDARD
TZOFFSETFROM:+0100
TZOFFSETTO:+0000
TZNAME:GMT
DTSTART:20241027T010000
END:STANDARD
END:VTIMEZONE
BEGIN:VEVENT
DTSTART;TZID=Europe/London:20240910T100000
DTEND;TZID=Europe/London:20240910T140000
DTSTAMP:20260423T204535
CREATED:20240820T142812Z
LAST-MODIFIED:20240820T143009Z
UID:2666-1725962400-1725976800@happyconfidentkids.com
SUMMARY:Teacher Training - Online
DESCRIPTION:
URL:https://happyconfidentkids.com/event/teacher-training-online/
CATEGORIES:Teacher Training
ORGANIZER;CN="Happy Confident Kids":MAILTO:hello@happyconfidentkids.com
END:VEVENT
BEGIN:VEVENT
DTSTART;TZID=Europe/London:20240913T100000
DTEND;TZID=Europe/London:20240913T140000
DTSTAMP:20260423T204535
CREATED:20240820T143853Z
LAST-MODIFIED:20240820T143853Z
UID:2669-1726221600-1726236000@happyconfidentkids.com
SUMMARY:Teacher Training - Online
DESCRIPTION:
URL:https://happyconfidentkids.com/event/teacher-training-online-2/
CATEGORIES:Teacher Training
ORGANIZER;CN="Happy Confident Kids":MAILTO:hello@happyconfidentkids.com
END:VEVENT
BEGIN:VEVENT
DTSTART;TZID=Europe/London:20240922T103000
DTEND;TZID=Europe/London:20240922T163000
DTSTAMP:20260423T204535
CREATED:20240710T134623Z
LAST-MODIFIED:20240722T152834Z
UID:2521-1727001000-1727022600@happyconfidentkids.com
SUMMARY:Retreat Day for Women
DESCRIPTION:Run the AWESOME human Emily\, in Bristol\, this will be an amazing event: \n \nEmily Doe is our Movement Trainer and development our Kids Movement Programme with us. \nMore info here… 
URL:https://happyconfidentkids.com/event/retreat-day-for-women/
LOCATION:St Werburghs\, \,\, BRISTOL\, BS2 9TJ
ATTACH;FMTTYPE=image/png:https://happyconfidentkids.com/wp-content/uploads/2024/07/Emily.png
END:VEVENT
END:VCALENDAR