BEGIN:VCALENDAR
VERSION:2.0
PRODID:-//Happy Confident Kids - ECPv6.5.1.5//NONSGML v1.0//EN
CALSCALE:GREGORIAN
METHOD:PUBLISH
X-ORIGINAL-URL:https://happyconfidentkids.com
X-WR-CALDESC:Events for Happy Confident Kids
REFRESH-INTERVAL;VALUE=DURATION:PT1H
X-Robots-Tag:noindex
X-PUBLISHED-TTL:PT1H
BEGIN:VTIMEZONE
TZID:Europe/London
BEGIN:DAYLIGHT
TZOFFSETFROM:+0000
TZOFFSETTO:+0100
TZNAME:BST
DTSTART:20250330T010000
END:DAYLIGHT
BEGIN:STANDARD
TZOFFSETFROM:+0100
TZOFFSETTO:+0000
TZNAME:GMT
DTSTART:20251026T010000
END:STANDARD
END:VTIMEZONE
BEGIN:VEVENT
DTSTART;TZID=Europe/London:20250112T093000
DTEND;TZID=Europe/London:20250112T133000
DTSTAMP:20260423T224025
CREATED:20241219T111227Z
LAST-MODIFIED:20241219T112223Z
UID:2920-1736674200-1736688600@happyconfidentkids.com
SUMMARY:Sports Coach Masterclass - Warwick University
DESCRIPTION:Come join us and develop transformational coaching skills to improve how you communicate with kids; leading to increased retention\, confidence and performance of students. \nHow CAN WE change the game… So we get more children and young people to stay in sport and improve retention in clubs? Become a Happy Confident Kids Sports Coach \nAs a Sports Coach we will train you to create helpful environments for students to thrive in; that will be positive and safe. \nOur comprehensive interactive training program enables sports coaches to: \n\nLearn about the power of the inner coach.\nUnderstand more about how children and young people work.\nUnderstand the mind body connection and why what you say really matters.\nCoach in a positive way that promotes confidence and resilience.\nAccess hands on tools to change the way you coach.\n\nHow our sports coaching membership works? more info here\nFirst year fee £250 | Subsequent years £120 \n“All kids need is a little help\, a little hope and somebody who believes in them.” Magic Johnson \nYour in great company with our amazing network of Sports Coaches including Zack George a.k.a\, Master Jason Mayoh and Para Olypmpic Gold Medal Winning Amy Truesdale.
URL:https://happyconfidentkids.com/event/sports-coach-masterclass-warwick-university/
LOCATION:Warwick Uni Innovatin Hub
CATEGORIES:Sports Coach
ATTACH;FMTTYPE=image/jpeg:https://happyconfidentkids.com/wp-content/uploads/2024/12/Sports-Coach-Masterclass-e1734607010714.jpg
ORGANIZER;CN="Happy Confident Kids":MAILTO:hello@happyconfidentkids.com
END:VEVENT
BEGIN:VEVENT
DTSTART;TZID=Europe/London:20250316T103000
DTEND;TZID=Europe/London:20250316T113000
DTSTAMP:20260423T224025
CREATED:20250317T111528Z
LAST-MODIFIED:20250318T142656Z
UID:2995-1742121000-1742124600@happyconfidentkids.com
SUMMARY:Lets Go Outdoors (Family in the Wild) - Hatton AM
DESCRIPTION:Event fully booked. \nRegister with our newsletter for more event updates: \nNewsletter – Happy Confident Kids
URL:https://happyconfidentkids.com/event/lets-go-outdoors-family-in-the-wild/
LOCATION:Hatton Locks
CATEGORIES:In the Wild
ATTACH;FMTTYPE=image/jpeg:https://happyconfidentkids.com/wp-content/uploads/2025/03/WhatsApp-Image-2025-03-16-at-15.37.06_be714ea6-scaled.jpg
END:VEVENT
BEGIN:VEVENT
DTSTART;TZID=Europe/London:20250316T130000
DTEND;TZID=Europe/London:20250316T140000
DTSTAMP:20260423T224025
CREATED:20250318T142804Z
LAST-MODIFIED:20250318T142822Z
UID:3002-1742130000-1742133600@happyconfidentkids.com
SUMMARY:Lets Go Outdoors (Family in the Wild) – Hatton PM
DESCRIPTION:Event fully booked. \nRegister with our newsletter for more event updates: \nNewsletter – Happy Confident Kids
URL:https://happyconfidentkids.com/event/lets-go-outdoors-family-in-the-wild-hatton-pm/
ATTACH;FMTTYPE=image/png:https://happyconfidentkids.com/wp-content/uploads/2025/01/image-1.png
END:VEVENT
BEGIN:VEVENT
DTSTART;TZID=Europe/London:20250318T103000
DTEND;TZID=Europe/London:20250318T113000
DTSTAMP:20260423T224025
CREATED:20250318T143048Z
LAST-MODIFIED:20250318T143048Z
UID:3004-1742293800-1742297400@happyconfidentkids.com
SUMMARY:Lets Go Outdoors (Family in the Wild) – Nottingham City Centre AM
DESCRIPTION:Event fully booked. \nRegister with our newsletter for more event updates: \nNewsletter – Happy Confident Kids
URL:https://happyconfidentkids.com/event/lets-go-outdoors-family-in-the-wild-nottingham-city-centre-am/
LOCATION:Nottingham City Centre Canal
CATEGORIES:In the Wild
ATTACH;FMTTYPE=image/png:https://happyconfidentkids.com/wp-content/uploads/2025/01/image-3.png
END:VEVENT
BEGIN:VEVENT
DTSTART;TZID=Europe/London:20250318T130000
DTEND;TZID=Europe/London:20250318T140000
DTSTAMP:20260423T224025
CREATED:20250318T143145Z
LAST-MODIFIED:20250318T143145Z
UID:3007-1742302800-1742306400@happyconfidentkids.com
SUMMARY:Lets Go Outdoors (Family in the Wild) – Nottingham City Centre PM
DESCRIPTION:Event fully booked. \nRegister with our newsletter for more event updates: \nNewsletter – Happy Confident Kids
URL:https://happyconfidentkids.com/event/lets-go-outdoors-family-in-the-wild-nottingham-city-centre-pm/
LOCATION:Nottingham City Centre Canal
CATEGORIES:In the Wild
ATTACH;FMTTYPE=image/png:https://happyconfidentkids.com/wp-content/uploads/2025/01/image-3.png
END:VEVENT
BEGIN:VEVENT
DTSTART;TZID=Europe/London:20250325T193000
DTEND;TZID=Europe/London:20250325T210000
DTSTAMP:20260423T224025
CREATED:20250318T145759Z
LAST-MODIFIED:20250318T150439Z
UID:3009-1742931000-1742936400@happyconfidentkids.com
SUMMARY:Official Glimmer Seeker Training (ONLINE) PM
DESCRIPTION:Exciting opportunity to join us online and to become an Official Glimmer Seeker. \n100% of people attending this training would recommend it to a friend. \nWhat is a Glimmer Seeker?\nGlimmer Seekers are dedicated to fostering a positive and growth-oriented mindset. \nThis grown-up master class normally costs £125\, but for a limited time\, this session is 40% off. \nWe’ll show you amazing tools that will benefit both you and those you support at home or in the classroom. \nCome and join us and have your opportunity to be an “official glimmer seeker”. \n“A lovely supportive session” \n“The tools that you teach are manageable and impactful for both adults and children. The most beneficial part for me\, is that they are instant. You can learn them quickly\, use them immediately\, and feel the benefit instantly. Simple yet powerful tools that positively impact everyone that uses them. Thank you. “ \n“The sessions were very powerful\, inspiring and motivational. “ \n“Excellent sessions delivered with care\, love and passion.”
URL:https://happyconfidentkids.com/event/official-glimmer-seeker-training-online/
CATEGORIES:Glimmer Seeker Training
END:VEVENT
BEGIN:VEVENT
DTSTART;TZID=Europe/London:20250328T093000
DTEND;TZID=Europe/London:20250328T110000
DTSTAMP:20260423T224025
CREATED:20250318T150246Z
LAST-MODIFIED:20250318T150528Z
UID:3013-1743154200-1743159600@happyconfidentkids.com
SUMMARY:Official Glimmer Seeker Training (ONLINE) AM
DESCRIPTION:Exciting opportunity to join us online and to become an Official Glimmer Seeker. \n100% of people attending this training would recommend it to a friend. \nWhat is a Glimmer Seeker?\nGlimmer Seekers are dedicated to fostering a positive and growth-oriented mindset. \nThis grown-up master class normally costs £125\, but for a limited time\, this session is 40% off. \nWe’ll show you amazing tools that will benefit both you and those you support at home or in the classroom. \nCome and join us and have your opportunity to be an “official glimmer seeker”. \n“A lovely supportive session” \n“The tools that you teach are manageable and impactful for both adults and children. The most beneficial part for me\, is that they are instant. You can learn them quickly\, use them immediately\, and feel the benefit instantly. Simple yet powerful tools that positively impact everyone that uses them. Thank you. “ \n“The sessions were very powerful\, inspiring and motivational.” \n“Excellent sessions delivered with care\, love and passion.”
URL:https://happyconfidentkids.com/event/official-glimmer-seeker-training-online-2/
CATEGORIES:Glimmer Seeker Training,Teacher Training
END:VEVENT
END:VCALENDAR