BEGIN:VCALENDAR
VERSION:2.0
PRODID:-//Happy Confident Kids - ECPv6.5.1.5//NONSGML v1.0//EN
CALSCALE:GREGORIAN
METHOD:PUBLISH
X-WR-CALNAME:Happy Confident Kids
X-ORIGINAL-URL:https://happyconfidentkids.com
X-WR-CALDESC:Events for Happy Confident Kids
REFRESH-INTERVAL;VALUE=DURATION:PT1H
X-Robots-Tag:noindex
X-PUBLISHED-TTL:PT1H
BEGIN:VTIMEZONE
TZID:Europe/London
BEGIN:DAYLIGHT
TZOFFSETFROM:+0000
TZOFFSETTO:+0100
TZNAME:BST
DTSTART:20240331T010000
END:DAYLIGHT
BEGIN:STANDARD
TZOFFSETFROM:+0100
TZOFFSETTO:+0000
TZNAME:GMT
DTSTART:20241027T010000
END:STANDARD
END:VTIMEZONE
BEGIN:VEVENT
DTSTART;TZID=Europe/London:20241124T100000
DTEND;TZID=Europe/London:20241124T110000
DTSTAMP:20260423T192706
CREATED:20241010T205112Z
LAST-MODIFIED:20241011T111547Z
UID:2705-1732442400-1732446000@happyconfidentkids.com
SUMMARY:Safeguarding Kids Masterclass
DESCRIPTION:If you coach kids in sports this interactive online masterclass will enable you to feel confident around safeguarding and have a greater understanding of why safeguarding matters. \nYou’ll leave with a deeper understanding of safeguarding\, how to embed it into your clubs culture and why it really matters.
URL:https://happyconfidentkids.com/event/safe-guarding-kids-masterclass-2/
CATEGORIES:Sports Coach
ORGANIZER;CN="Happy Confident Kids":MAILTO:hello@happyconfidentkids.com
END:VEVENT
BEGIN:VEVENT
DTSTART;TZID=Europe/London:20241123T000000
DTEND;TZID=Europe/London:20241123T235959
DTSTAMP:20260423T192706
CREATED:20240710T133312Z
LAST-MODIFIED:20240722T152744Z
UID:2514-1732320000-1732406399@happyconfidentkids.com
SUMMARY:'I AM ENOUGH' Transformational Retreat
DESCRIPTION:This transformational retreat\, is perfect for parents and teachers – will help release limiting beliefs and support you to step into your full potential. Throughout the day\, you’ll experience powerful techniques to help you believe are good enough. You’ll receive nourishment and care for your mind\, body and soul. Experiences include Emotional Freedom Technique (Tapping)\, Hypnotherapy\, Journaling\, Meditation\, Energy Healing\, Mindset techniques\, nourishing snacks and lunch provided lovingly to support your healing and transformation. \nRun by Lisa Cressy one of our amazing Happy Confident Kids Coaches \nClick here for more info
URL:https://happyconfidentkids.com/event/i-am-enough-transformational-retreat/
LOCATION:Serenity Barn – Bascote Road – Southam\, Serenity Barn\, Southam
ATTACH;FMTTYPE=image/webp:https://happyconfidentkids.com/wp-content/uploads/2024/07/retreat.webp
END:VEVENT
BEGIN:VEVENT
DTSTART;TZID=Europe/London:20241121T130000
DTEND;TZID=Europe/London:20241121T140000
DTSTAMP:20260423T192706
CREATED:20241010T204426Z
LAST-MODIFIED:20241011T111608Z
UID:2702-1732194000-1732197600@happyconfidentkids.com
SUMMARY:Safeguarding Kids Masterclass
DESCRIPTION:why this stuff really matters\nIf you coach kids in sports this interactive online masterclass will enable you to feel confident around safeguarding and have a greater understanding of why safe guarding matters. \nYou’ll leave with a deeper understanding of safeguarding\, how to embed it into your clubs culture and why it really matters.
URL:https://happyconfidentkids.com/event/safe-guarding-kids-masterclass/
CATEGORIES:Sports Coach
ORGANIZER;CN="Happy Confident Kids":MAILTO:hello@happyconfidentkids.com
END:VEVENT
BEGIN:VEVENT
DTSTART;TZID=Europe/London:20241102T130000
DTEND;TZID=Europe/London:20241102T170000
DTSTAMP:20260423T192706
CREATED:20241018T131952Z
LAST-MODIFIED:20241018T132111Z
UID:2729-1730552400-1730566800@happyconfidentkids.com
SUMMARY:ITW Leader Training
DESCRIPTION:Really excited to launch our next cohort of In the Wild Leader training. \n“I had a great day at our In The Wild training day\, it was great to learn how we can use our tools as coaches alongside the natural resources all around us to help children connect with nature\, find calm and build their confidence and resilience. I’m really excited to get going and deliver these workshops to the children in my area.” Rosie – In the Wild Leader
URL:https://happyconfidentkids.com/event/itw-leader-training/
CATEGORIES:In the Wild
ORGANIZER;CN="Happy Confident Kids":MAILTO:hello@happyconfidentkids.com
END:VEVENT
BEGIN:VEVENT
DTSTART;TZID=Europe/London:20241024T110000
DTEND;TZID=Europe/London:20241024T113000
DTSTAMP:20260423T192706
CREATED:20241018T135350Z
LAST-MODIFIED:20241018T135350Z
UID:2740-1729767600-1729769400@happyconfidentkids.com
SUMMARY:In the Wild Leader - Taster Session
DESCRIPTION:Find out more about being an In the Wild Leader
URL:https://happyconfidentkids.com/event/in-the-wild-leader-taster-session/
CATEGORIES:In the Wild
ORGANIZER;CN="Happy Confident Kids":MAILTO:hello@happyconfidentkids.com
END:VEVENT
BEGIN:VEVENT
DTSTART;TZID=Europe/London:20240922T103000
DTEND;TZID=Europe/London:20240922T163000
DTSTAMP:20260423T192706
CREATED:20240710T134623Z
LAST-MODIFIED:20240722T152834Z
UID:2521-1727001000-1727022600@happyconfidentkids.com
SUMMARY:Retreat Day for Women
DESCRIPTION:Run the AWESOME human Emily\, in Bristol\, this will be an amazing event: \n \nEmily Doe is our Movement Trainer and development our Kids Movement Programme with us. \nMore info here… 
URL:https://happyconfidentkids.com/event/retreat-day-for-women/
LOCATION:St Werburghs\, \,\, BRISTOL\, BS2 9TJ
ATTACH;FMTTYPE=image/png:https://happyconfidentkids.com/wp-content/uploads/2024/07/Emily.png
END:VEVENT
BEGIN:VEVENT
DTSTART;TZID=Europe/London:20240913T100000
DTEND;TZID=Europe/London:20240913T140000
DTSTAMP:20260423T192706
CREATED:20240820T143853Z
LAST-MODIFIED:20240820T143853Z
UID:2669-1726221600-1726236000@happyconfidentkids.com
SUMMARY:Teacher Training - Online
DESCRIPTION:
URL:https://happyconfidentkids.com/event/teacher-training-online-2/
CATEGORIES:Teacher Training
ORGANIZER;CN="Happy Confident Kids":MAILTO:hello@happyconfidentkids.com
END:VEVENT
BEGIN:VEVENT
DTSTART;TZID=Europe/London:20240910T100000
DTEND;TZID=Europe/London:20240910T140000
DTSTAMP:20260423T192706
CREATED:20240820T142812Z
LAST-MODIFIED:20240820T143009Z
UID:2666-1725962400-1725976800@happyconfidentkids.com
SUMMARY:Teacher Training - Online
DESCRIPTION:
URL:https://happyconfidentkids.com/event/teacher-training-online/
CATEGORIES:Teacher Training
ORGANIZER;CN="Happy Confident Kids":MAILTO:hello@happyconfidentkids.com
END:VEVENT
BEGIN:VEVENT
DTSTART;TZID=Europe/London:20240823T131500
DTEND;TZID=Europe/London:20240823T151500
DTSTAMP:20260423T192706
CREATED:20240708T125206Z
LAST-MODIFIED:20240822T135035Z
UID:2503-1724418900-1724426100@happyconfidentkids.com
SUMMARY:In the Wild Family Workshop\, Berkswell 23rd August
DESCRIPTION:Unleash your well-being warrior at Spencer’s Farm this summer. \nJoin us for 2 hours of fun\, family-friendly activities in a beautiful natural setting. Learn valuable Happy Confident Kids “In the Wild” skills like mindful breathing and mud painting (activities subject to change). \nPerfect for all the family age 4-18\, with babes in arms\, grandparents all welcome too! You’ll all leave feeling relaxed\, inspired\, and with keepsakes to remember the day. Limited spots – book your adventure today. \nSpencer’s farm is quick drive from Solihull\, Coventry\, Kenilworth\, Leamington\, Warwick and surrounding areas. \nSummer fun for the whole family – we can’t wait to see you all. \nPrices: £12 per person (3rd person is FREE)
URL:https://happyconfidentkids.com/event/in-the-wild-family-workshop-6/
LOCATION:Spencers Retreat\, Spencer's Lane\, Berkswell\,\, Solihull\, CV7 7BY
CATEGORIES:In the Wild
ATTACH;FMTTYPE=image/png:https://happyconfidentkids.com/wp-content/uploads/2023/07/in-the-wild.png
ORGANIZER;CN="Happy Confident Kids":MAILTO:hello@happyconfidentkids.com
END:VEVENT
BEGIN:VEVENT
DTSTART;TZID=Europe/London:20240821T131500
DTEND;TZID=Europe/London:20240821T151500
DTSTAMP:20260423T192706
CREATED:20240708T124757Z
LAST-MODIFIED:20240821T082908Z
UID:2497-1724246100-1724253300@happyconfidentkids.com
SUMMARY:In the Wild Family Workshop\, Berkswell 21st August
DESCRIPTION:Unleash your well-being warrior at Spencer’s Farm this summer. \nJoin us for 2 hours of fun\, family-friendly activities in a beautiful natural setting. Learn valuable Happy Confident Kids “In the Wild” skills like mindful breathing and mud painting (activities subject to change). \nPerfect for all the family age 4-18\, with babes in arms\, grandparents all welcome too! You’ll all leave feeling relaxed\, inspired\, and with keepsakes to remember the day. Limited spots – book your adventure today. \nSpencer’s farm is quick drive from Solihull\, Coventry\, Kenilworth\, Leamington\, Warwick and surrounding areas. \nSummer fun for the whole family – we can’t wait to see you all. \nPrices: £12 per person
URL:https://happyconfidentkids.com/event/in-the-wild-family-workshop-5/
LOCATION:Spencers Retreat\, Spencer's Lane\, Berkswell\,\, Solihull\, CV7 7BY
CATEGORIES:In the Wild
ATTACH;FMTTYPE=image/png:https://happyconfidentkids.com/wp-content/uploads/2023/07/in-the-wild.png
ORGANIZER;CN="Happy Confident Kids":MAILTO:hello@happyconfidentkids.com
END:VEVENT
BEGIN:VEVENT
DTSTART;TZID=Europe/London:20240802T100000
DTEND;TZID=Europe/London:20240802T120000
DTSTAMP:20260423T192706
CREATED:20240701T151648Z
LAST-MODIFIED:20240723T090406Z
UID:2461-1722592800-1722600000@happyconfidentkids.com
SUMMARY:In the Wild Family Workshop\, Southam 2nd August
DESCRIPTION:THIS EVENT IS NOW CLOSED FOR BOOKING WE HAVE SPACE ON: \n\n29th July in Southam\n21st August in Berkswell\n23rd August in Berkswell\n\nUnleash your well-being warrior at Brookside Eco Farm this summer. \nJoin us for 2 hours of fun\, family-friendly activities in a beautiful natural setting. Learn valuable Happy Confident Kids “In the Wild” skills like mindful breathing and mud painting (activities subject to change). \nPerfect for all the family age 4-18\, with babes in arms\, grandparents all welcome too! You’ll all leave feeling relaxed\, inspired\, and with keepsakes to remember the day. Limited spots – book your adventure today. \nBrookside Eco Farm is located just off the M40 and a quick drive from Kenilworth\, Leamington\, Warwick and surrounding areas. \nSummer fun for the whole family – we can’t wait to see you all. \nPrices: £12 per person
URL:https://happyconfidentkids.com/event/in-the-wild-family-workshop-4/
LOCATION:Brookside Eco Farm\, Gaydon Road\, Southam\, CV47 2QZ
CATEGORIES:In the Wild
ATTACH;FMTTYPE=image/png:https://happyconfidentkids.com/wp-content/uploads/2023/07/in-the-wild.png
ORGANIZER;CN="Happy Confident Kids":MAILTO:hello@happyconfidentkids.com
END:VEVENT
BEGIN:VEVENT
DTSTART;TZID=Europe/London:20240801T100000
DTEND;TZID=Europe/London:20240801T120000
DTSTAMP:20260423T192706
CREATED:20240701T151555Z
LAST-MODIFIED:20240723T090254Z
UID:2459-1722506400-1722513600@happyconfidentkids.com
SUMMARY:In the Wild Family Workshop\, Southam 1st August
DESCRIPTION:THIS EVENT IS NOW CLOSED FOR BOOKING WE HAVE SPACE ON: \n\n29th July in Southam\n21st August in Berkswell\n23rd August in Berkswell\n\nUnleash your well-being warrior at Brookside Eco Farm this summer. \nJoin us for 2 hours of fun\, family-friendly activities in a beautiful natural setting. Learn valuable Happy Confident Kids “In the Wild” skills like mindful breathing and mud painting (activities subject to change). \nPerfect for all the family age 4-18\, with babes in arms\, grandparents all welcome too! You’ll all leave feeling relaxed\, inspired\, and with keepsakes to remember the day. Limited spots – book your adventure today. \nBrookside Eco Farm is located just off the M40 and a quick drive from Kenilworth\, Leamington\, Warwick and surrounding areas. \nSummer fun for the whole family – we can’t wait to see you all. \nPrices: £12 per person (3rd person is FREE)
URL:https://happyconfidentkids.com/event/in-the-wild-family-workshop-3/
LOCATION:Brookside Eco Farm\, Gaydon Road\, Southam\, CV47 2QZ
CATEGORIES:In the Wild
ATTACH;FMTTYPE=image/png:https://happyconfidentkids.com/wp-content/uploads/2023/07/in-the-wild.png
ORGANIZER;CN="Happy Confident Kids":MAILTO:hello@happyconfidentkids.com
END:VEVENT
BEGIN:VEVENT
DTSTART;TZID=Europe/London:20240730T100000
DTEND;TZID=Europe/London:20240730T120000
DTSTAMP:20260423T192706
CREATED:20240701T151330Z
LAST-MODIFIED:20240723T085907Z
UID:2457-1722333600-1722340800@happyconfidentkids.com
SUMMARY:In the Wild Family Workshop\, Southam 30th July
DESCRIPTION:THIS EVENT IS NOW CLOSED FOR BOOKING WE HAVE SPACE ON: \n\n29th July in Southam\n21st August in Berkswell\n23rd August in Berkswell\n\nUnleash your well-being warrior at Brookside Eco Farm this summer. \nJoin us for 2 hours of fun\, family-friendly activities in a beautiful natural setting. Learn valuable Happy Confident Kids “In the Wild” skills like mindful breathing and mud painting (activities subject to change). \nPerfect for all the family age 4-18\, with babes in arms\, grandparents all welcome too! You’ll all leave feeling relaxed\, inspired\, and with keepsakes to remember the day. Limited spots – book your adventure today. \nBrookside Eco Farm is located just off the M40 and a quick drive from Kenilworth\, Leamington\, Warwick and surrounding areas. \nSummer fun for the whole family – we can’t wait to see you all. \nPrices: £12 per person (3rd person is FREE)
URL:https://happyconfidentkids.com/event/in-the-wild-family-workshop-2/
LOCATION:Brookside Eco Farm\, Gaydon Road\, Southam\, CV47 2QZ
CATEGORIES:In the Wild
ATTACH;FMTTYPE=image/png:https://happyconfidentkids.com/wp-content/uploads/2023/07/in-the-wild.png
ORGANIZER;CN="Happy Confident Kids":MAILTO:hello@happyconfidentkids.com
END:VEVENT
BEGIN:VEVENT
DTSTART;TZID=Europe/London:20240729T100000
DTEND;TZID=Europe/London:20240729T120000
DTSTAMP:20260423T192706
CREATED:20240701T110349Z
LAST-MODIFIED:20240716T202437Z
UID:2420-1722247200-1722254400@happyconfidentkids.com
SUMMARY:In the Wild Family Workshop - Southam 29th July
DESCRIPTION:Unleash your well-being warrior at Brookside Eco Farm this summer. \nJoin us for 2 hours of fun\, family-friendly activities in a beautiful natural setting. Learn valuable Happy Confident Kids “In the Wild” skills like mindful breathing and mud painting (activities subject to change). \nPerfect for all the family age 4-18\, with babes in arms\, grandparents all welcome too! You’ll all leave feeling relaxed\, inspired\, and with keepsakes to remember the day. Limited spots – book your adventure today. \nBrookside Eco Farm is located just off the M40 and a quick drive from Kenilworth\, Leamington\, Warwick and surrounding areas. \nSummer fun for the whole family – we can’t wait to see you all. \nPrices: £12 per person (3rd person is FREE)
URL:https://happyconfidentkids.com/event/in-the-wild-family-workshop/
LOCATION:Brookside Eco Farm\, Gaydon Road\, Southam\, CV47 2QZ
CATEGORIES:In the Wild
ATTACH;FMTTYPE=image/png:https://happyconfidentkids.com/wp-content/uploads/2023/07/in-the-wild.png
ORGANIZER;CN="Happy Confident Kids":MAILTO:hello@happyconfidentkids.com
END:VEVENT
END:VCALENDAR