BEGIN:VCALENDAR
VERSION:2.0
PRODID:-//Happy Confident Kids - ECPv6.5.1.5//NONSGML v1.0//EN
CALSCALE:GREGORIAN
METHOD:PUBLISH
X-ORIGINAL-URL:https://happyconfidentkids.com
X-WR-CALDESC:Events for Happy Confident Kids
REFRESH-INTERVAL;VALUE=DURATION:PT1H
X-Robots-Tag:noindex
X-PUBLISHED-TTL:PT1H
BEGIN:VTIMEZONE
TZID:Europe/London
BEGIN:DAYLIGHT
TZOFFSETFROM:+0000
TZOFFSETTO:+0100
TZNAME:BST
DTSTART:20240331T010000
END:DAYLIGHT
BEGIN:STANDARD
TZOFFSETFROM:+0100
TZOFFSETTO:+0000
TZNAME:GMT
DTSTART:20241027T010000
END:STANDARD
END:VTIMEZONE
BEGIN:VEVENT
DTSTART;TZID=Europe/London:20241123T000000
DTEND;TZID=Europe/London:20241123T235959
DTSTAMP:20260423T190648
CREATED:20240710T133312Z
LAST-MODIFIED:20240722T152744Z
UID:2514-1732320000-1732406399@happyconfidentkids.com
SUMMARY:'I AM ENOUGH' Transformational Retreat
DESCRIPTION:This transformational retreat\, is perfect for parents and teachers – will help release limiting beliefs and support you to step into your full potential. Throughout the day\, you’ll experience powerful techniques to help you believe are good enough. You’ll receive nourishment and care for your mind\, body and soul. Experiences include Emotional Freedom Technique (Tapping)\, Hypnotherapy\, Journaling\, Meditation\, Energy Healing\, Mindset techniques\, nourishing snacks and lunch provided lovingly to support your healing and transformation. \nRun by Lisa Cressy one of our amazing Happy Confident Kids Coaches \nClick here for more info
URL:https://happyconfidentkids.com/event/i-am-enough-transformational-retreat/
LOCATION:Serenity Barn – Bascote Road – Southam\, Serenity Barn\, Southam
ATTACH;FMTTYPE=image/webp:https://happyconfidentkids.com/wp-content/uploads/2024/07/retreat.webp
END:VEVENT
END:VCALENDAR