BEGIN:VCALENDAR
VERSION:2.0
PRODID:-//Happy Confident Kids - ECPv6.5.1.5//NONSGML v1.0//EN
CALSCALE:GREGORIAN
METHOD:PUBLISH
X-ORIGINAL-URL:https://happyconfidentkids.com
X-WR-CALDESC:Events for Happy Confident Kids
REFRESH-INTERVAL;VALUE=DURATION:PT1H
X-Robots-Tag:noindex
X-PUBLISHED-TTL:PT1H
BEGIN:VTIMEZONE
TZID:Europe/London
BEGIN:DAYLIGHT
TZOFFSETFROM:+0000
TZOFFSETTO:+0100
TZNAME:BST
DTSTART:20240331T010000
END:DAYLIGHT
BEGIN:STANDARD
TZOFFSETFROM:+0100
TZOFFSETTO:+0000
TZNAME:GMT
DTSTART:20241027T010000
END:STANDARD
END:VTIMEZONE
BEGIN:VEVENT
DTSTART;TZID=Europe/London:20241102T130000
DTEND;TZID=Europe/London:20241102T170000
DTSTAMP:20260423T190607
CREATED:20241018T131952Z
LAST-MODIFIED:20241018T132111Z
UID:2729-1730552400-1730566800@happyconfidentkids.com
SUMMARY:ITW Leader Training
DESCRIPTION:Really excited to launch our next cohort of In the Wild Leader training. \n“I had a great day at our In The Wild training day\, it was great to learn how we can use our tools as coaches alongside the natural resources all around us to help children connect with nature\, find calm and build their confidence and resilience. I’m really excited to get going and deliver these workshops to the children in my area.” Rosie – In the Wild Leader
URL:https://happyconfidentkids.com/event/itw-leader-training/
CATEGORIES:In the Wild
ORGANIZER;CN="Happy Confident Kids":MAILTO:hello@happyconfidentkids.com
END:VEVENT
END:VCALENDAR